BEGIN:VCALENDAR
VERSION:2.0
PRODID:-//Reading Classical Music - ECPv6.0.1//NONSGML v1.0//EN
CALSCALE:GREGORIAN
METHOD:PUBLISH
X-WR-CALNAME:Reading Classical Music
X-ORIGINAL-URL:https://reading.saigonclassical.vn
X-WR-CALDESC:Events for Reading Classical Music
REFRESH-INTERVAL;VALUE=DURATION:PT1H
X-Robots-Tag:noindex
X-PUBLISHED-TTL:PT1H
BEGIN:VTIMEZONE
TZID:UTC
BEGIN:STANDARD
TZOFFSETFROM:+0000
TZOFFSETTO:+0000
TZNAME:UTC
DTSTART:20200101T000000
END:STANDARD
END:VTIMEZONE
BEGIN:VEVENT
DTSTART;TZID=UTC:20200205T093000
DTEND;TZID=UTC:20230810T170000
DTSTAMP:20260422T005452
CREATED:20190603T201906Z
LAST-MODIFIED:20200203T203711Z
UID:3102-1580895000-1691686800@reading.saigonclassical.vn
SUMMARY:Provide Pure Water And Fresh Food For Syrian
DESCRIPTION:Who’s that then? Shh! Knights\, I bid you welcome to your new home. Let us ride to Camelot! Ah\, now we see the violence inherent in the system! The Lady of the Lake\, her arm clad in the purest shimmering samite\, held aloft Excalibur from the bosom of the water\, signifying by divine providence that I\, Arthur\, was to carry Excalibur. That is why I am your king. Camelot!
URL:https://reading.saigonclassical.vn/event/provide-pure-water-and-fresh-food-for-syrian/
LOCATION:Sproule Circuit\, Evatt\, Australian Capital Territory \, Australia
CATEGORIES:Charity,Health
ATTACH;FMTTYPE=image/jpeg:https://reading.saigonclassical.vn/wp-content/uploads/2017/06/The-amazing-tale-of-starting-a-Ugand.jpg
END:VEVENT
END:VCALENDAR